{"text_format":"1","workbook":"xlsx","n_sheets":2,"sheets":["Hoja1","Hoja2"],"not_rendered":{"charts":0,"images":0,"macros":1,"external_links":0,"defined_names":1,"comments":0,"pivot_tables":0},"unopened":[],"bounds":{"document_bytes":16777216,"sheet_cells":100000,"rows_first":2000,"rows_last":500,"rows_between":2000,"halvings":0,"cell_chars":16384,"cell_head_chars":4096},"cells_cut":0,"cells_raw":0,"read":"whole","date_system":"1900"}

{"sheet":"Hoja1","index":0,"n_rows":3,"n_cols":18,"rows_kept":3,"cut":false,"hidden":false,"merged":[[0,1,1,6],[0,7,1,11],[0,12,1,17]]}
["DNI","DATOS PERSONALES DEL FEDERADO",null,null,null,null,null,"DATOS FEDERATIVOS"]
["coincidir letra "]
["correcto","DNI","APELLIDOS","NOMBRE","F.NAC.","TFNO","MODALIDAD","CATEGORIA","TIPO SEGURO","F.ALTA","Nº LICENCIA","FEDERACIÓN","DIRECCIÒN","C. POSTAL","POBLACIÓN","E-MAIL","CAT. FEDERATIVA","CLUB"]

{"sheet":"Hoja2","index":1,"n_rows":100,"n_cols":7,"rows_kept":100,"cut":false,"hidden":true,"merged":[]}
[null,null,null,null,null,null,"SI.ERROR(SI(Hoja2!D6=\"\"; \" \"; EXTRAE(\"TRWAGMYFPDXBNJZSQVHLCKE\"; RESIDUO(Hoja2!D6; 23) + 1; 1)); \"Pasaporte\")"]
[]
["HOCKEY PATINES","FEDERADO","MENOR"]
["HOCKEY LINEA","ESCUELA","MAYOR",{"$f":"LEFT(Hoja1!#REF!,8)","v":{"$error":"#REF!"}}]
["ARTÍSTICO","INICIACIÓN","TÉCNICO",{"$f":"LEFT(Hoja1!#REF!,8)","v":{"$error":"#REF!"}}]
["ARTÍSTICO INLINE",null,"DELEGADO",{"$f":"LEFT(Hoja1!#REF!,8)","v":{"$error":"#REF!"}}]
["ROLLER DERBI",null,"FEDERATIVO",{"$f":"LEFT(Hoja1!#REF!,8)","v":{"$error":"#REF!"}}]
["VELOCIDAD",null,null,{"$f":"LEFT(Hoja1!#REF!,8)","v":{"$error":"#REF!"}}]
["ALPINO LÍNEA",null,null,{"$f":"LEFT(Hoja1!#REF!,8)","v":{"$error":"#REF!"}}]
["SHOW",null,null,{"$f":"LEFT(Hoja1!#REF!,8)","v":{"$error":"#REF!"}}]
["INLINE FREESTYLE",null,null,{"$f":"LEFT(Hoja1!#REF!,8)","v":{"$error":"#REF!"}}]
["DESCENSO",null,null,{"$f":"LEFT(Hoja1!#REF!,8)","v":{"$error":"#REF!"}}]
["ESCUELA",null,null,{"$f":"LEFT(Hoja1!#REF!,8)","v":{"$error":"#REF!"}}]
[null,null,null,{"$f":"LEFT(Hoja1!#REF!,8)","v":{"$error":"#REF!"}}]
[null,null,null,{"$f":"LEFT(Hoja1!#REF!,8)","v":{"$error":"#REF!"}}]
[null,null,null,{"$f":"LEFT(Hoja1!#REF!,8)","v":{"$error":"#REF!"}}]
[null,null,null,{"$f":"LEFT(Hoja1!#REF!,8)","v":{"$error":"#REF!"}}]
[null,null,null,{"$f":"LEFT(Hoja1!#REF!,8)","v":{"$error":"#REF!"}}]
[null,null,null,{"$f":"LEFT(Hoja1!#REF!,8)","v":{"$error":"#REF!"}}]
[null,null,null,{"$f":"LEFT(Hoja1!#REF!,8)","v":{"$error":"#REF!"}}]
[null,null,null,{"$f":"LEFT(Hoja1!#REF!,8)","v":{"$error":"#REF!"}}]
[null,null,null,{"$f":"LEFT(Hoja1!#REF!,8)","v":{"$error":"#REF!"}}]
[null,null,null,{"$f":"LEFT(Hoja1!#REF!,8)","v":{"$error":"#REF!"}}]
[null,null,null,{"$f":"LEFT(Hoja1!#REF!,8)","v":{"$error":"#REF!"}}]
[null,null,null,{"$f":"LEFT(Hoja1!#REF!,8)","v":{"$error":"#REF!"}}]
[null,null,null,{"$f":"LEFT(Hoja1!#REF!,8)","v":{"$error":"#REF!"}}]
[null,null,null,{"$f":"LEFT(Hoja1!#REF!,8)","v":{"$error":"#REF!"}}]
[null,null,null,{"$f":"LEFT(Hoja1!#REF!,8)","v":{"$error":"#REF!"}}]
[null,null,null,{"$f":"LEFT(Hoja1!#REF!,8)","v":{"$error":"#REF!"}}]
[null,null,null,{"$f":"LEFT(Hoja1!B19,8)","v":""}]
[null,null,null,{"$f":"LEFT(Hoja1!#REF!,8)","v":{"$error":"#REF!"}}]
[null,null,null,{"$f":"LEFT(Hoja1!#REF!,8)","v":{"$error":"#REF!"}}]
[null,null,null,{"$f":"LEFT(Hoja1!#REF!,8)","v":{"$error":"#REF!"}}]
[null,null,null,{"$f":"LEFT(Hoja1!#REF!,8)","v":{"$error":"#REF!"}}]
[null,null,null,{"$f":"LEFT(Hoja1!#REF!,8)","v":{"$error":"#REF!"}}]
[null,null,null,{"$f":"LEFT(Hoja1!#REF!,8)","v":{"$error":"#REF!"}}]
[null,null,null,{"$f":"LEFT(Hoja1!B20,8)","v":""}]
[null,null,null,{"$f":"LEFT(Hoja1!#REF!,8)","v":{"$error":"#REF!"}}]
[null,null,null,{"$f":"LEFT(Hoja1!B21,8)","v":""}]
[null,null,null,{"$f":"LEFT(Hoja1!#REF!,8)","v":{"$error":"#REF!"}}]
[null,null,null,{"$f":"LEFT(Hoja1!#REF!,8)","v":{"$error":"#REF!"}}]
[null,null,null,{"$f":"LEFT(Hoja1!B22,8)","v":""}]
[null,null,null,{"$f":"LEFT(Hoja1!#REF!,8)","v":{"$error":"#REF!"}}]
[null,null,null,{"$f":"LEFT(Hoja1!#REF!,8)","v":{"$error":"#REF!"}}]
[null,null,null,{"$f":"LEFT(Hoja1!B23,8)","v":""}]
[null,null,null,{"$f":"LEFT(Hoja1!B24,8)","v":""}]
[null,null,null,{"$f":"LEFT(Hoja1!B25,8)","v":""}]
[null,null,null,{"$f":"LEFT(Hoja1!#REF!,8)","v":{"$error":"#REF!"}}]
[null,null,null,{"$f":"LEFT(Hoja1!B26,8)","v":""}]
[null,null,null,{"$f":"LEFT(Hoja1!B27,8)","v":""}]
[null,null,null,{"$f":"LEFT(Hoja1!B28,8)","v":""}]
[null,null,null,{"$f":"LEFT(Hoja1!B29,8)","v":""}]
[null,null,null,{"$f":"LEFT(Hoja1!B30,8)","v":""}]
[null,null,null,{"$f":"LEFT(Hoja1!B31,8)","v":""}]
[null,null,null,{"$f":"LEFT(Hoja1!B32,8)","v":""}]
[null,null,null,{"$f":"LEFT(Hoja1!B33,8)","v":""}]
[null,null,null,{"$f":"LEFT(Hoja1!B34,8)","v":""}]
[null,null,null,{"$f":"LEFT(Hoja1!B35,8)","v":""}]
[null,null,null,{"$f":"LEFT(Hoja1!#REF!,8)","v":{"$error":"#REF!"}}]
[null,null,null,{"$f":"LEFT(Hoja1!B36,8)","v":""}]
[null,null,null,{"$f":"LEFT(Hoja1!B37,8)","v":""}]
[null,null,null,{"$f":"LEFT(Hoja1!#REF!,8)","v":{"$error":"#REF!"}}]
[null,null,null,{"$f":"LEFT(Hoja1!B38,8)","v":""}]
[null,null,null,{"$f":"LEFT(Hoja1!B39,8)","v":""}]
[null,null,null,{"$f":"LEFT(Hoja1!B40,8)","v":""}]
[null,null,null,{"$f":"LEFT(Hoja1!B41,8)","v":""}]
[null,null,null,{"$f":"LEFT(Hoja1!B42,8)","v":""}]
[null,null,null,{"$f":"LEFT(Hoja1!B43,8)","v":""}]
[null,null,null,{"$f":"LEFT(Hoja1!B44,8)","v":""}]
[null,null,null,{"$f":"LEFT(Hoja1!B45,8)","v":""}]
[null,null,null,{"$f":"LEFT(Hoja1!B46,8)","v":""}]
[null,null,null,{"$f":"LEFT(Hoja1!B47,8)","v":""}]
[null,null,null,{"$f":"LEFT(Hoja1!B48,8)","v":""}]
[null,null,null,{"$f":"LEFT(Hoja1!B49,8)","v":""}]
[null,null,null,{"$f":"LEFT(Hoja1!B50,8)","v":""}]
[null,null,null,{"$f":"LEFT(Hoja1!B51,8)","v":""}]
[null,null,null,{"$f":"LEFT(Hoja1!B52,8)","v":""}]
[null,null,null,{"$f":"LEFT(Hoja1!B53,8)","v":""}]
[null,null,null,{"$f":"LEFT(Hoja1!B54,8)","v":""}]
[null,null,null,{"$f":"LEFT(Hoja1!B55,8)","v":""}]
[null,null,null,{"$f":"LEFT(Hoja1!B56,8)","v":""}]
[null,null,null,{"$f":"LEFT(Hoja1!B57,8)","v":""}]
[null,null,null,{"$f":"LEFT(Hoja1!B58,8)","v":""}]
[null,null,null,{"$f":"LEFT(Hoja1!B59,8)","v":""}]
[null,null,null,{"$f":"LEFT(Hoja1!B60,8)","v":""}]
[null,null,null,{"$f":"LEFT(Hoja1!B61,8)","v":""}]
[null,null,null,{"$f":"LEFT(Hoja1!B62,8)","v":""}]
[null,null,null,{"$f":"LEFT(Hoja1!B63,8)","v":""}]
[null,null,null,{"$f":"LEFT(Hoja1!B64,8)","v":""}]
[null,null,null,{"$f":"LEFT(Hoja1!B65,8)","v":""}]
[null,null,null,{"$f":"LEFT(Hoja1!B66,8)","v":""}]
[null,null,null,{"$f":"LEFT(Hoja1!B67,8)","v":""}]
[null,null,null,{"$f":"LEFT(Hoja1!B68,8)","v":""}]
[null,null,null,{"$f":"LEFT(Hoja1!B69,8)","v":""}]
[null,null,null,{"$f":"LEFT(Hoja1!B70,8)","v":""}]
[null,null,null,{"$f":"LEFT(Hoja1!B71,8)","v":""}]
[null,null,null,{"$f":"LEFT(Hoja1!B72,8)","v":""}]
[null,null,null,{"$f":"LEFT(Hoja1!B73,8)","v":""}]
[null,null,null,{"$f":"LEFT(Hoja1!B74,8)","v":""}]
[null,null,null,{"$f":"LEFT(Hoja1!B75,8)","v":""}]