{"text_format":"1","workbook":"xlsx","n_sheets":2,"sheets":["Hoja1","Hoja2"],"not_rendered":{"charts":0,"images":0,"macros":0,"external_links":0,"defined_names":1,"comments":0,"pivot_tables":0},"unopened":[],"bounds":{"document_bytes":16777216,"sheet_cells":100000,"rows_first":2000,"rows_last":500,"rows_between":2000,"halvings":0,"cell_chars":16384,"cell_head_chars":4096},"cells_cut":0,"cells_raw":0,"read":"whole","date_system":"1900"}

{"sheet":"Hoja1","index":0,"n_rows":100,"n_cols":18,"rows_kept":100,"cut":false,"hidden":false,"merged":[[0,1,1,6],[0,7,1,11],[0,12,1,17]]}
["DNI","DATOS PERSONALES DEL FEDERADO",null,null,null,null,null,"DATOS FEDERATIVOS"]
["coincidir letra "]
["correcto","DNI","APELLIDOS","NOMBRE","F.NAC.","TFNO","MODALIDAD","CATEGORIA","TIPO SEGURO","F.ALTA","Nº LICENCIA","FEDERACIÓN","DIRECCIÒN","C. POSTAL","POBLACIÓN","E-MAIL","CAT. FEDERATIVA","CLUB"]
[{"$f":"IFERROR(IF(Hoja2!D4=\"\", \" \", MID(\"TRWAGMYFPDXBNJZSQVHLCKE\", MOD(Hoja2!D4, 23) + 1, 1)), \"Pasaporte\")","v":" "},null,null,null,"     /     /"]
[{"$f":"IFERROR(IF(Hoja2!D5=\"\", \" \", MID(\"TRWAGMYFPDXBNJZSQVHLCKE\", MOD(Hoja2!D5, 23) + 1, 1)), \"Pasaporte\")","v":" "}]
[{"$f":"IFERROR(IF(Hoja2!D6=\"\", \" \", MID(\"TRWAGMYFPDXBNJZSQVHLCKE\", MOD(Hoja2!D6, 23) + 1, 1)), \"Pasaporte\")","v":" "}]
[{"$f":"IFERROR(IF(Hoja2!D7=\"\", \" \", MID(\"TRWAGMYFPDXBNJZSQVHLCKE\", MOD(Hoja2!D7, 23) + 1, 1)), \"Pasaporte\")","v":" "}]
[{"$f":"IFERROR(IF(Hoja2!D8=\"\", \" \", MID(\"TRWAGMYFPDXBNJZSQVHLCKE\", MOD(Hoja2!D8, 23) + 1, 1)), \"Pasaporte\")","v":" "}]
[{"$f":"IFERROR(IF(Hoja2!D9=\"\", \" \", MID(\"TRWAGMYFPDXBNJZSQVHLCKE\", MOD(Hoja2!D9, 23) + 1, 1)), \"Pasaporte\")","v":" "}]
[{"$f":"IFERROR(IF(Hoja2!D10=\"\", \" \", MID(\"TRWAGMYFPDXBNJZSQVHLCKE\", MOD(Hoja2!D10, 23) + 1, 1)), \"Pasaporte\")","v":" "}]
[{"$f":"IFERROR(IF(Hoja2!D11=\"\", \" \", MID(\"TRWAGMYFPDXBNJZSQVHLCKE\", MOD(Hoja2!D11, 23) + 1, 1)), \"Pasaporte\")","v":" "}]
[{"$f":"IFERROR(IF(Hoja2!D12=\"\", \" \", MID(\"TRWAGMYFPDXBNJZSQVHLCKE\", MOD(Hoja2!D12, 23) + 1, 1)), \"Pasaporte\")","v":" "}]
[{"$f":"IFERROR(IF(Hoja2!D13=\"\", \" \", MID(\"TRWAGMYFPDXBNJZSQVHLCKE\", MOD(Hoja2!D13, 23) + 1, 1)), \"Pasaporte\")","v":" "}]
[{"$f":"IFERROR(IF(Hoja2!D14=\"\", \" \", MID(\"TRWAGMYFPDXBNJZSQVHLCKE\", MOD(Hoja2!D14, 23) + 1, 1)), \"Pasaporte\")","v":" "}]
[{"$f":"IFERROR(IF(Hoja2!D15=\"\", \" \", MID(\"TRWAGMYFPDXBNJZSQVHLCKE\", MOD(Hoja2!D15, 23) + 1, 1)), \"Pasaporte\")","v":" "}]
[{"$f":"IFERROR(IF(Hoja2!D16=\"\", \" \", MID(\"TRWAGMYFPDXBNJZSQVHLCKE\", MOD(Hoja2!D16, 23) + 1, 1)), \"Pasaporte\")","v":" "}]
[{"$f":"IFERROR(IF(Hoja2!D17=\"\", \" \", MID(\"TRWAGMYFPDXBNJZSQVHLCKE\", MOD(Hoja2!D17, 23) + 1, 1)), \"Pasaporte\")","v":" "}]
[{"$f":"IFERROR(IF(Hoja2!D18=\"\", \" \", MID(\"TRWAGMYFPDXBNJZSQVHLCKE\", MOD(Hoja2!D18, 23) + 1, 1)), \"Pasaporte\")","v":" "}]
[{"$f":"IFERROR(IF(Hoja2!D19=\"\", \" \", MID(\"TRWAGMYFPDXBNJZSQVHLCKE\", MOD(Hoja2!D19, 23) + 1, 1)), \"Pasaporte\")","v":" "}]
[{"$f":"IFERROR(IF(Hoja2!D20=\"\", \" \", MID(\"TRWAGMYFPDXBNJZSQVHLCKE\", MOD(Hoja2!D20, 23) + 1, 1)), \"Pasaporte\")","v":" "}]
[{"$f":"IFERROR(IF(Hoja2!D21=\"\", \" \", MID(\"TRWAGMYFPDXBNJZSQVHLCKE\", MOD(Hoja2!D21, 23) + 1, 1)), \"Pasaporte\")","v":" "}]
[{"$f":"IFERROR(IF(Hoja2!D22=\"\", \" \", MID(\"TRWAGMYFPDXBNJZSQVHLCKE\", MOD(Hoja2!D22, 23) + 1, 1)), \"Pasaporte\")","v":" "}]
[{"$f":"IFERROR(IF(Hoja2!D23=\"\", \" \", MID(\"TRWAGMYFPDXBNJZSQVHLCKE\", MOD(Hoja2!D23, 23) + 1, 1)), \"Pasaporte\")","v":" "}]
[{"$f":"IFERROR(IF(Hoja2!D24=\"\", \" \", MID(\"TRWAGMYFPDXBNJZSQVHLCKE\", MOD(Hoja2!D24, 23) + 1, 1)), \"Pasaporte\")","v":" "}]
[{"$f":"IFERROR(IF(Hoja2!D25=\"\", \" \", MID(\"TRWAGMYFPDXBNJZSQVHLCKE\", MOD(Hoja2!D25, 23) + 1, 1)), \"Pasaporte\")","v":" "}]
[{"$f":"IFERROR(IF(Hoja2!D26=\"\", \" \", MID(\"TRWAGMYFPDXBNJZSQVHLCKE\", MOD(Hoja2!D26, 23) + 1, 1)), \"Pasaporte\")","v":" "}]
[{"$f":"IFERROR(IF(Hoja2!D27=\"\", \" \", MID(\"TRWAGMYFPDXBNJZSQVHLCKE\", MOD(Hoja2!D27, 23) + 1, 1)), \"Pasaporte\")","v":" "}]
[{"$f":"IFERROR(IF(Hoja2!D28=\"\", \" \", MID(\"TRWAGMYFPDXBNJZSQVHLCKE\", MOD(Hoja2!D28, 23) + 1, 1)), \"Pasaporte\")","v":" "}]
[{"$f":"IFERROR(IF(Hoja2!D29=\"\", \" \", MID(\"TRWAGMYFPDXBNJZSQVHLCKE\", MOD(Hoja2!D29, 23) + 1, 1)), \"Pasaporte\")","v":" "}]
[{"$f":"IFERROR(IF(Hoja2!D30=\"\", \" \", MID(\"TRWAGMYFPDXBNJZSQVHLCKE\", MOD(Hoja2!D30, 23) + 1, 1)), \"Pasaporte\")","v":" "}]
[{"$f":"IFERROR(IF(Hoja2!D31=\"\", \" \", MID(\"TRWAGMYFPDXBNJZSQVHLCKE\", MOD(Hoja2!D31, 23) + 1, 1)), \"Pasaporte\")","v":" "}]
[{"$f":"IFERROR(IF(Hoja2!D32=\"\", \" \", MID(\"TRWAGMYFPDXBNJZSQVHLCKE\", MOD(Hoja2!D32, 23) + 1, 1)), \"Pasaporte\")","v":" "}]
[{"$f":"IFERROR(IF(Hoja2!D33=\"\", \" \", MID(\"TRWAGMYFPDXBNJZSQVHLCKE\", MOD(Hoja2!D33, 23) + 1, 1)), \"Pasaporte\")","v":" "}]
[{"$f":"IFERROR(IF(Hoja2!D34=\"\", \" \", MID(\"TRWAGMYFPDXBNJZSQVHLCKE\", MOD(Hoja2!D34, 23) + 1, 1)), \"Pasaporte\")","v":" "}]
[{"$f":"IFERROR(IF(Hoja2!D35=\"\", \" \", MID(\"TRWAGMYFPDXBNJZSQVHLCKE\", MOD(Hoja2!D35, 23) + 1, 1)), \"Pasaporte\")","v":" "}]
[{"$f":"IFERROR(IF(Hoja2!D36=\"\", \" \", MID(\"TRWAGMYFPDXBNJZSQVHLCKE\", MOD(Hoja2!D36, 23) + 1, 1)), \"Pasaporte\")","v":" "}]
[{"$f":"IFERROR(IF(Hoja2!D37=\"\", \" \", MID(\"TRWAGMYFPDXBNJZSQVHLCKE\", MOD(Hoja2!D37, 23) + 1, 1)), \"Pasaporte\")","v":" "}]
[{"$f":"IFERROR(IF(Hoja2!D38=\"\", \" \", MID(\"TRWAGMYFPDXBNJZSQVHLCKE\", MOD(Hoja2!D38, 23) + 1, 1)), \"Pasaporte\")","v":" "}]
[{"$f":"IFERROR(IF(Hoja2!D39=\"\", \" \", MID(\"TRWAGMYFPDXBNJZSQVHLCKE\", MOD(Hoja2!D39, 23) + 1, 1)), \"Pasaporte\")","v":" "}]
[{"$f":"IFERROR(IF(Hoja2!D40=\"\", \" \", MID(\"TRWAGMYFPDXBNJZSQVHLCKE\", MOD(Hoja2!D40, 23) + 1, 1)), \"Pasaporte\")","v":" "}]
[{"$f":"IFERROR(IF(Hoja2!D41=\"\", \" \", MID(\"TRWAGMYFPDXBNJZSQVHLCKE\", MOD(Hoja2!D41, 23) + 1, 1)), \"Pasaporte\")","v":" "}]
[{"$f":"IFERROR(IF(Hoja2!D42=\"\", \" \", MID(\"TRWAGMYFPDXBNJZSQVHLCKE\", MOD(Hoja2!D42, 23) + 1, 1)), \"Pasaporte\")","v":" "}]
[{"$f":"IFERROR(IF(Hoja2!D43=\"\", \" \", MID(\"TRWAGMYFPDXBNJZSQVHLCKE\", MOD(Hoja2!D43, 23) + 1, 1)), \"Pasaporte\")","v":" "}]
[{"$f":"IFERROR(IF(Hoja2!D44=\"\", \" \", MID(\"TRWAGMYFPDXBNJZSQVHLCKE\", MOD(Hoja2!D44, 23) + 1, 1)), \"Pasaporte\")","v":" "}]
[{"$f":"IFERROR(IF(Hoja2!D45=\"\", \" \", MID(\"TRWAGMYFPDXBNJZSQVHLCKE\", MOD(Hoja2!D45, 23) + 1, 1)), \"Pasaporte\")","v":" "}]
[{"$f":"IFERROR(IF(Hoja2!D46=\"\", \" \", MID(\"TRWAGMYFPDXBNJZSQVHLCKE\", MOD(Hoja2!D46, 23) + 1, 1)), \"Pasaporte\")","v":" "}]
[{"$f":"IFERROR(IF(Hoja2!D47=\"\", \" \", MID(\"TRWAGMYFPDXBNJZSQVHLCKE\", MOD(Hoja2!D47, 23) + 1, 1)), \"Pasaporte\")","v":" "}]
[{"$f":"IFERROR(IF(Hoja2!D48=\"\", \" \", MID(\"TRWAGMYFPDXBNJZSQVHLCKE\", MOD(Hoja2!D48, 23) + 1, 1)), \"Pasaporte\")","v":" "}]
[{"$f":"IFERROR(IF(Hoja2!D49=\"\", \" \", MID(\"TRWAGMYFPDXBNJZSQVHLCKE\", MOD(Hoja2!D49, 23) + 1, 1)), \"Pasaporte\")","v":" "}]
[{"$f":"IFERROR(IF(Hoja2!D50=\"\", \" \", MID(\"TRWAGMYFPDXBNJZSQVHLCKE\", MOD(Hoja2!D50, 23) + 1, 1)), \"Pasaporte\")","v":" "}]
[{"$f":"IFERROR(IF(Hoja2!D51=\"\", \" \", MID(\"TRWAGMYFPDXBNJZSQVHLCKE\", MOD(Hoja2!D51, 23) + 1, 1)), \"Pasaporte\")","v":" "}]
[{"$f":"IFERROR(IF(Hoja2!D52=\"\", \" \", MID(\"TRWAGMYFPDXBNJZSQVHLCKE\", MOD(Hoja2!D52, 23) + 1, 1)), \"Pasaporte\")","v":" "}]
[{"$f":"IFERROR(IF(Hoja2!D53=\"\", \" \", MID(\"TRWAGMYFPDXBNJZSQVHLCKE\", MOD(Hoja2!D53, 23) + 1, 1)), \"Pasaporte\")","v":" "}]
[{"$f":"IFERROR(IF(Hoja2!D54=\"\", \" \", MID(\"TRWAGMYFPDXBNJZSQVHLCKE\", MOD(Hoja2!D54, 23) + 1, 1)), \"Pasaporte\")","v":" "}]
[{"$f":"IFERROR(IF(Hoja2!D55=\"\", \" \", MID(\"TRWAGMYFPDXBNJZSQVHLCKE\", MOD(Hoja2!D55, 23) + 1, 1)), \"Pasaporte\")","v":" "}]
[{"$f":"IFERROR(IF(Hoja2!D56=\"\", \" \", MID(\"TRWAGMYFPDXBNJZSQVHLCKE\", MOD(Hoja2!D56, 23) + 1, 1)), \"Pasaporte\")","v":" "}]
[{"$f":"IFERROR(IF(Hoja2!D57=\"\", \" \", MID(\"TRWAGMYFPDXBNJZSQVHLCKE\", MOD(Hoja2!D57, 23) + 1, 1)), \"Pasaporte\")","v":" "}]
[{"$f":"IFERROR(IF(Hoja2!D58=\"\", \" \", MID(\"TRWAGMYFPDXBNJZSQVHLCKE\", MOD(Hoja2!D58, 23) + 1, 1)), \"Pasaporte\")","v":" "}]
[{"$f":"IFERROR(IF(Hoja2!D59=\"\", \" \", MID(\"TRWAGMYFPDXBNJZSQVHLCKE\", MOD(Hoja2!D59, 23) + 1, 1)), \"Pasaporte\")","v":" "}]
[{"$f":"IFERROR(IF(Hoja2!D60=\"\", \" \", MID(\"TRWAGMYFPDXBNJZSQVHLCKE\", MOD(Hoja2!D60, 23) + 1, 1)), \"Pasaporte\")","v":" "}]
[{"$f":"IFERROR(IF(Hoja2!D61=\"\", \" \", MID(\"TRWAGMYFPDXBNJZSQVHLCKE\", MOD(Hoja2!D61, 23) + 1, 1)), \"Pasaporte\")","v":" "}]
[{"$f":"IFERROR(IF(Hoja2!D62=\"\", \" \", MID(\"TRWAGMYFPDXBNJZSQVHLCKE\", MOD(Hoja2!D62, 23) + 1, 1)), \"Pasaporte\")","v":" "}]
[{"$f":"IFERROR(IF(Hoja2!D63=\"\", \" \", MID(\"TRWAGMYFPDXBNJZSQVHLCKE\", MOD(Hoja2!D63, 23) + 1, 1)), \"Pasaporte\")","v":" "}]
[{"$f":"IFERROR(IF(Hoja2!D64=\"\", \" \", MID(\"TRWAGMYFPDXBNJZSQVHLCKE\", MOD(Hoja2!D64, 23) + 1, 1)), \"Pasaporte\")","v":" "}]
[{"$f":"IFERROR(IF(Hoja2!D65=\"\", \" \", MID(\"TRWAGMYFPDXBNJZSQVHLCKE\", MOD(Hoja2!D65, 23) + 1, 1)), \"Pasaporte\")","v":" "}]
[{"$f":"IFERROR(IF(Hoja2!D66=\"\", \" \", MID(\"TRWAGMYFPDXBNJZSQVHLCKE\", MOD(Hoja2!D66, 23) + 1, 1)), \"Pasaporte\")","v":" "}]
[{"$f":"IFERROR(IF(Hoja2!D67=\"\", \" \", MID(\"TRWAGMYFPDXBNJZSQVHLCKE\", MOD(Hoja2!D67, 23) + 1, 1)), \"Pasaporte\")","v":" "}]
[{"$f":"IFERROR(IF(Hoja2!D68=\"\", \" \", MID(\"TRWAGMYFPDXBNJZSQVHLCKE\", MOD(Hoja2!D68, 23) + 1, 1)), \"Pasaporte\")","v":" "}]
[{"$f":"IFERROR(IF(Hoja2!D69=\"\", \" \", MID(\"TRWAGMYFPDXBNJZSQVHLCKE\", MOD(Hoja2!D69, 23) + 1, 1)), \"Pasaporte\")","v":" "}]
[{"$f":"IFERROR(IF(Hoja2!D70=\"\", \" \", MID(\"TRWAGMYFPDXBNJZSQVHLCKE\", MOD(Hoja2!D70, 23) + 1, 1)), \"Pasaporte\")","v":" "}]
[{"$f":"IFERROR(IF(Hoja2!D71=\"\", \" \", MID(\"TRWAGMYFPDXBNJZSQVHLCKE\", MOD(Hoja2!D71, 23) + 1, 1)), \"Pasaporte\")","v":" "}]
[{"$f":"IFERROR(IF(Hoja2!D72=\"\", \" \", MID(\"TRWAGMYFPDXBNJZSQVHLCKE\", MOD(Hoja2!D72, 23) + 1, 1)), \"Pasaporte\")","v":" "}]
[{"$f":"IFERROR(IF(Hoja2!D73=\"\", \" \", MID(\"TRWAGMYFPDXBNJZSQVHLCKE\", MOD(Hoja2!D73, 23) + 1, 1)), \"Pasaporte\")","v":" "}]
[{"$f":"IFERROR(IF(Hoja2!D74=\"\", \" \", MID(\"TRWAGMYFPDXBNJZSQVHLCKE\", MOD(Hoja2!D74, 23) + 1, 1)), \"Pasaporte\")","v":" "}]
[{"$f":"IFERROR(IF(Hoja2!D75=\"\", \" \", MID(\"TRWAGMYFPDXBNJZSQVHLCKE\", MOD(Hoja2!D75, 23) + 1, 1)), \"Pasaporte\")","v":" "}]
[{"$f":"IFERROR(IF(Hoja2!D76=\"\", \" \", MID(\"TRWAGMYFPDXBNJZSQVHLCKE\", MOD(Hoja2!D76, 23) + 1, 1)), \"Pasaporte\")","v":" "}]
[{"$f":"IFERROR(IF(Hoja2!D77=\"\", \" \", MID(\"TRWAGMYFPDXBNJZSQVHLCKE\", MOD(Hoja2!D77, 23) + 1, 1)), \"Pasaporte\")","v":" "}]
[{"$f":"IFERROR(IF(Hoja2!D78=\"\", \" \", MID(\"TRWAGMYFPDXBNJZSQVHLCKE\", MOD(Hoja2!D78, 23) + 1, 1)), \"Pasaporte\")","v":" "}]
[{"$f":"IFERROR(IF(Hoja2!D79=\"\", \" \", MID(\"TRWAGMYFPDXBNJZSQVHLCKE\", MOD(Hoja2!D79, 23) + 1, 1)), \"Pasaporte\")","v":" "}]
[{"$f":"IFERROR(IF(Hoja2!D80=\"\", \" \", MID(\"TRWAGMYFPDXBNJZSQVHLCKE\", MOD(Hoja2!D80, 23) + 1, 1)), \"Pasaporte\")","v":" "}]
[{"$f":"IFERROR(IF(Hoja2!D81=\"\", \" \", MID(\"TRWAGMYFPDXBNJZSQVHLCKE\", MOD(Hoja2!D81, 23) + 1, 1)), \"Pasaporte\")","v":" "}]
[{"$f":"IFERROR(IF(Hoja2!D82=\"\", \" \", MID(\"TRWAGMYFPDXBNJZSQVHLCKE\", MOD(Hoja2!D82, 23) + 1, 1)), \"Pasaporte\")","v":" "}]
[{"$f":"IFERROR(IF(Hoja2!D83=\"\", \" \", MID(\"TRWAGMYFPDXBNJZSQVHLCKE\", MOD(Hoja2!D83, 23) + 1, 1)), \"Pasaporte\")","v":" "}]
[{"$f":"IFERROR(IF(Hoja2!D84=\"\", \" \", MID(\"TRWAGMYFPDXBNJZSQVHLCKE\", MOD(Hoja2!D84, 23) + 1, 1)), \"Pasaporte\")","v":" "}]
[{"$f":"IFERROR(IF(Hoja2!D85=\"\", \" \", MID(\"TRWAGMYFPDXBNJZSQVHLCKE\", MOD(Hoja2!D85, 23) + 1, 1)), \"Pasaporte\")","v":" "}]
[{"$f":"IFERROR(IF(Hoja2!D86=\"\", \" \", MID(\"TRWAGMYFPDXBNJZSQVHLCKE\", MOD(Hoja2!D86, 23) + 1, 1)), \"Pasaporte\")","v":" "}]
[{"$f":"IFERROR(IF(Hoja2!D87=\"\", \" \", MID(\"TRWAGMYFPDXBNJZSQVHLCKE\", MOD(Hoja2!D87, 23) + 1, 1)), \"Pasaporte\")","v":" "}]
[{"$f":"IFERROR(IF(Hoja2!D88=\"\", \" \", MID(\"TRWAGMYFPDXBNJZSQVHLCKE\", MOD(Hoja2!D88, 23) + 1, 1)), \"Pasaporte\")","v":" "}]
[{"$f":"IFERROR(IF(Hoja2!D89=\"\", \" \", MID(\"TRWAGMYFPDXBNJZSQVHLCKE\", MOD(Hoja2!D89, 23) + 1, 1)), \"Pasaporte\")","v":" "}]
[{"$f":"IFERROR(IF(Hoja2!D90=\"\", \" \", MID(\"TRWAGMYFPDXBNJZSQVHLCKE\", MOD(Hoja2!D90, 23) + 1, 1)), \"Pasaporte\")","v":" "}]
[{"$f":"IFERROR(IF(Hoja2!D91=\"\", \" \", MID(\"TRWAGMYFPDXBNJZSQVHLCKE\", MOD(Hoja2!D91, 23) + 1, 1)), \"Pasaporte\")","v":" "}]
[{"$f":"IFERROR(IF(Hoja2!D92=\"\", \" \", MID(\"TRWAGMYFPDXBNJZSQVHLCKE\", MOD(Hoja2!D92, 23) + 1, 1)), \"Pasaporte\")","v":" "}]
[{"$f":"IFERROR(IF(Hoja2!D93=\"\", \" \", MID(\"TRWAGMYFPDXBNJZSQVHLCKE\", MOD(Hoja2!D93, 23) + 1, 1)), \"Pasaporte\")","v":" "}]
[{"$f":"IFERROR(IF(Hoja2!D94=\"\", \" \", MID(\"TRWAGMYFPDXBNJZSQVHLCKE\", MOD(Hoja2!D94, 23) + 1, 1)), \"Pasaporte\")","v":" "}]
[{"$f":"IFERROR(IF(Hoja2!D95=\"\", \" \", MID(\"TRWAGMYFPDXBNJZSQVHLCKE\", MOD(Hoja2!D95, 23) + 1, 1)), \"Pasaporte\")","v":" "}]
[{"$f":"IFERROR(IF(Hoja2!D96=\"\", \" \", MID(\"TRWAGMYFPDXBNJZSQVHLCKE\", MOD(Hoja2!D96, 23) + 1, 1)), \"Pasaporte\")","v":" "}]
[{"$f":"IFERROR(IF(Hoja2!D97=\"\", \" \", MID(\"TRWAGMYFPDXBNJZSQVHLCKE\", MOD(Hoja2!D97, 23) + 1, 1)), \"Pasaporte\")","v":" "}]
[{"$f":"IFERROR(IF(Hoja2!D98=\"\", \" \", MID(\"TRWAGMYFPDXBNJZSQVHLCKE\", MOD(Hoja2!D98, 23) + 1, 1)), \"Pasaporte\")","v":" "}]
[{"$f":"IFERROR(IF(Hoja2!D99=\"\", \" \", MID(\"TRWAGMYFPDXBNJZSQVHLCKE\", MOD(Hoja2!D99, 23) + 1, 1)), \"Pasaporte\")","v":" "}]
[{"$f":"IFERROR(IF(Hoja2!D100=\"\", \" \", MID(\"TRWAGMYFPDXBNJZSQVHLCKE\", MOD(Hoja2!D100, 23) + 1, 1)), \"Pasaporte\")","v":" "}]

{"sheet":"Hoja2","index":1,"n_rows":100,"n_cols":7,"rows_kept":100,"cut":false,"hidden":true,"merged":[]}
[null,null,null,null,null,null,"SI.ERROR(SI(Hoja2!D6=\"\"; \" \"; EXTRAE(\"TRWAGMYFPDXBNJZSQVHLCKE\"; RESIDUO(Hoja2!D6; 23) + 1; 1)); \"Pasaporte\")"]
[]
["HOCKEY PATINES","FEDERADO","MENOR"]
["HOCKEY LINEA","ESCUELA","MAYOR",{"$f":"LEFT(Hoja1!B4,8)","v":""}]
["ARTÍSTICO","INICIACIÓN","TÉCNICO",{"$f":"LEFT(Hoja1!B5,8)","v":""}]
["ROLLER DERBI",null,"DELEGADO",{"$f":"LEFT(Hoja1!B6,8)","v":""}]
["VELOCIDAD",null,"FEDERATIVO",{"$f":"LEFT(Hoja1!B7,8)","v":""}]
["ALPINO LÍNEA",null,null,{"$f":"LEFT(Hoja1!B8,8)","v":""}]
["SHOW",null,null,{"$f":"LEFT(Hoja1!B9,8)","v":""}]
["INLINE FREESTYLE",null,null,{"$f":"LEFT(Hoja1!B10,8)","v":""}]
["ESCUELA",null,null,{"$f":"LEFT(Hoja1!B11,8)","v":""}]
[null,null,null,{"$f":"LEFT(Hoja1!B12,8)","v":""}]
[null,null,null,{"$f":"LEFT(Hoja1!B13,8)","v":""}]
[null,null,null,{"$f":"LEFT(Hoja1!B14,8)","v":""}]
[null,null,null,{"$f":"LEFT(Hoja1!B15,8)","v":""}]
[null,null,null,{"$f":"LEFT(Hoja1!B16,8)","v":""}]
[null,null,null,{"$f":"LEFT(Hoja1!B17,8)","v":""}]
[null,null,null,{"$f":"LEFT(Hoja1!B18,8)","v":""}]
[null,null,null,{"$f":"LEFT(Hoja1!B19,8)","v":""}]
[null,null,null,{"$f":"LEFT(Hoja1!B20,8)","v":""}]
[null,null,null,{"$f":"LEFT(Hoja1!B21,8)","v":""}]
[null,null,null,{"$f":"LEFT(Hoja1!B22,8)","v":""}]
[null,null,null,{"$f":"LEFT(Hoja1!B23,8)","v":""}]
[null,null,null,{"$f":"LEFT(Hoja1!B24,8)","v":""}]
[null,null,null,{"$f":"LEFT(Hoja1!B25,8)","v":""}]
[null,null,null,{"$f":"LEFT(Hoja1!B26,8)","v":""}]
[null,null,null,{"$f":"LEFT(Hoja1!B27,8)","v":""}]
[null,null,null,{"$f":"LEFT(Hoja1!B28,8)","v":""}]
[null,null,null,{"$f":"LEFT(Hoja1!B29,8)","v":""}]
[null,null,null,{"$f":"LEFT(Hoja1!B30,8)","v":""}]
[null,null,null,{"$f":"LEFT(Hoja1!B31,8)","v":""}]
[null,null,null,{"$f":"LEFT(Hoja1!B32,8)","v":""}]
[null,null,null,{"$f":"LEFT(Hoja1!B33,8)","v":""}]
[null,null,null,{"$f":"LEFT(Hoja1!B34,8)","v":""}]
[null,null,null,{"$f":"LEFT(Hoja1!B35,8)","v":""}]
[null,null,null,{"$f":"LEFT(Hoja1!B36,8)","v":""}]
[null,null,null,{"$f":"LEFT(Hoja1!B37,8)","v":""}]
[null,null,null,{"$f":"LEFT(Hoja1!B38,8)","v":""}]
[null,null,null,{"$f":"LEFT(Hoja1!B39,8)","v":""}]
[null,null,null,{"$f":"LEFT(Hoja1!B40,8)","v":""}]
[null,null,null,{"$f":"LEFT(Hoja1!B41,8)","v":""}]
[null,null,null,{"$f":"LEFT(Hoja1!B42,8)","v":""}]
[null,null,null,{"$f":"LEFT(Hoja1!B43,8)","v":""}]
[null,null,null,{"$f":"LEFT(Hoja1!B44,8)","v":""}]
[null,null,null,{"$f":"LEFT(Hoja1!B45,8)","v":""}]
[null,null,null,{"$f":"LEFT(Hoja1!B46,8)","v":""}]
[null,null,null,{"$f":"LEFT(Hoja1!B47,8)","v":""}]
[null,null,null,{"$f":"LEFT(Hoja1!B48,8)","v":""}]
[null,null,null,{"$f":"LEFT(Hoja1!B49,8)","v":""}]
[null,null,null,{"$f":"LEFT(Hoja1!B50,8)","v":""}]
[null,null,null,{"$f":"LEFT(Hoja1!B51,8)","v":""}]
[null,null,null,{"$f":"LEFT(Hoja1!B52,8)","v":""}]
[null,null,null,{"$f":"LEFT(Hoja1!B53,8)","v":""}]
[null,null,null,{"$f":"LEFT(Hoja1!B54,8)","v":""}]
[null,null,null,{"$f":"LEFT(Hoja1!B55,8)","v":""}]
[null,null,null,{"$f":"LEFT(Hoja1!B56,8)","v":""}]
[null,null,null,{"$f":"LEFT(Hoja1!B57,8)","v":""}]
[null,null,null,{"$f":"LEFT(Hoja1!B58,8)","v":""}]
[null,null,null,{"$f":"LEFT(Hoja1!B59,8)","v":""}]
[null,null,null,{"$f":"LEFT(Hoja1!B60,8)","v":""}]
[null,null,null,{"$f":"LEFT(Hoja1!B61,8)","v":""}]
[null,null,null,{"$f":"LEFT(Hoja1!B62,8)","v":""}]
[null,null,null,{"$f":"LEFT(Hoja1!B63,8)","v":""}]
[null,null,null,{"$f":"LEFT(Hoja1!B64,8)","v":""}]
[null,null,null,{"$f":"LEFT(Hoja1!B65,8)","v":""}]
[null,null,null,{"$f":"LEFT(Hoja1!B66,8)","v":""}]
[null,null,null,{"$f":"LEFT(Hoja1!B67,8)","v":""}]
[null,null,null,{"$f":"LEFT(Hoja1!B68,8)","v":""}]
[null,null,null,{"$f":"LEFT(Hoja1!B69,8)","v":""}]
[null,null,null,{"$f":"LEFT(Hoja1!B70,8)","v":""}]
[null,null,null,{"$f":"LEFT(Hoja1!B71,8)","v":""}]
[null,null,null,{"$f":"LEFT(Hoja1!B72,8)","v":""}]
[null,null,null,{"$f":"LEFT(Hoja1!B73,8)","v":""}]
[null,null,null,{"$f":"LEFT(Hoja1!B74,8)","v":""}]
[null,null,null,{"$f":"LEFT(Hoja1!B75,8)","v":""}]
[null,null,null,{"$f":"LEFT(Hoja1!B76,8)","v":""}]
[null,null,null,{"$f":"LEFT(Hoja1!B77,8)","v":""}]
[null,null,null,{"$f":"LEFT(Hoja1!B78,8)","v":""}]
[null,null,null,{"$f":"LEFT(Hoja1!B79,8)","v":""}]
[null,null,null,{"$f":"LEFT(Hoja1!B80,8)","v":""}]
[null,null,null,{"$f":"LEFT(Hoja1!B81,8)","v":""}]
[null,null,null,{"$f":"LEFT(Hoja1!B82,8)","v":""}]
[null,null,null,{"$f":"LEFT(Hoja1!B83,8)","v":""}]
[null,null,null,{"$f":"LEFT(Hoja1!B84,8)","v":""}]
[null,null,null,{"$f":"LEFT(Hoja1!B85,8)","v":""}]
[null,null,null,{"$f":"LEFT(Hoja1!B86,8)","v":""}]
[null,null,null,{"$f":"LEFT(Hoja1!B87,8)","v":""}]
[null,null,null,{"$f":"LEFT(Hoja1!B88,8)","v":""}]
[null,null,null,{"$f":"LEFT(Hoja1!B89,8)","v":""}]
[null,null,null,{"$f":"LEFT(Hoja1!B90,8)","v":""}]
[null,null,null,{"$f":"LEFT(Hoja1!B91,8)","v":""}]
[null,null,null,{"$f":"LEFT(Hoja1!B92,8)","v":""}]
[null,null,null,{"$f":"LEFT(Hoja1!B93,8)","v":""}]
[null,null,null,{"$f":"LEFT(Hoja1!B94,8)","v":""}]
[null,null,null,{"$f":"LEFT(Hoja1!B95,8)","v":""}]
[null,null,null,{"$f":"LEFT(Hoja1!B96,8)","v":""}]
[null,null,null,{"$f":"LEFT(Hoja1!B97,8)","v":""}]
[null,null,null,{"$f":"LEFT(Hoja1!B98,8)","v":""}]
[null,null,null,{"$f":"LEFT(Hoja1!B99,8)","v":""}]
[null,null,null,{"$f":"LEFT(Hoja1!B100,8)","v":""}]